<?xml version="1.0"?>
<Capabilities xmlns="http://www.opengis.net/wmts/1.0" xmlns:ows="http://www.opengis.net/ows/1.1" xmlns:xlink="http://www.w3.org/1999/xlink" xmlns:xsi="http://www.w3.org/2001/XMLSchema-instance" xmlns:gml="http://www.opengis.net/gml" xsi:schemaLocation="http://www.opengis.net/wmts/1.0 http://schemas.opengis.net/wmts/1.0/wmtsGetCapabilities_response.xsd" version="1.0.0">
  <ows:ServiceIdentification>
    <ows:Title>Geodati relativi al territorio del Canton Ticino</ows:Title>
    <ows:Abstract>Geodati di base relativi al territorio della Repubblica e Canton Ticino esposti tramite geoservizi WMTS. L'organizzazione dei geodati di base è secondo le geocategorie definite nella norma eCH0166. I geodati di base vengono offerti secondo i servizi, di rappresentazione (WMTS), definiti dal Regolamento della legge cantonale sulla geoinformazione.</ows:Abstract>
    <ows:Keywords>
        <ows:Keyword vocabulary="GEMET">MU</ows:Keyword>
        <ows:Keyword>Geodati di base</ows:Keyword>
        <ows:Keyword>Dati territoriali</ows:Keyword>
    </ows:Keywords>
    <ows:ServiceType>OGC WMTS</ows:ServiceType>
    <ows:ServiceTypeVersion>1.0.0</ows:ServiceTypeVersion>
    <ows:Fees>None</ows:Fees>
    <ows:AccessConstraints>Richiesta formale a ccgeo@ti.ch</ows:AccessConstraints>
  </ows:ServiceIdentification>
  <ows:ServiceProvider>
    <ows:ProviderName>Repubblica e Cantone Ticino</ows:ProviderName>
    <ows:ProviderSite xlink:href="https://wmts.geo.ti.ch/wmts/1.0.0/WMTSCapabilities.xml"/>
    <ows:ServiceContact>
      <ows:IndividualName>Ufficio della geomatica</ows:IndividualName>
      <ows:PositionName>Point of contact</ows:PositionName>
      <ows:ContactInfo>
        <ows:Phone>
          <ows:Voice>+41(91)814 26 15</ows:Voice>
          <ows:Facsimile>+41(91)814 25 29</ows:Facsimile>
        </ows:Phone>
        <ows:Address>
          <ows:DeliveryPoint>Via Franco Zorzi 13</ows:DeliveryPoint>
          <ows:City>Bellinzona</ows:City>
          <ows:AdministrativeArea>Ticino</ows:AdministrativeArea>
          <ows:PostalCode>6500</ows:PostalCode>
          <ows:Country>Switzerland</ows:Country>
          <ows:ElectronicMailAddress>ccgeo@ti.ch</ows:ElectronicMailAddress>
        </ows:Address>
      </ows:ContactInfo>
    </ows:ServiceContact>
  </ows:ServiceProvider>
  <ows:OperationsMetadata>
    <ows:Operation name="GetCapabilities">
      <ows:DCP>
        <ows:HTTP>
          <ows:Get xlink:href="https://wmts.geo.ti.ch/wmts?">
            <ows:Constraint name="GetEncoding">
              <ows:AllowedValues>
                <ows:Value>RESTful</ows:Value>
              </ows:AllowedValues>
            </ows:Constraint>
          </ows:Get>
        </ows:HTTP>
      </ows:DCP>
    </ows:Operation>
    <ows:Operation name="GetTile">
      <ows:DCP>
        <ows:HTTP>
          <ows:Get xlink:href="https://wmts.geo.ti.ch/wmts?">
            <ows:Constraint name="GetEncoding">
              <ows:AllowedValues>
                <ows:Value>RESTful</ows:Value>
              </ows:AllowedValues>
            </ows:Constraint>
          </ows:Get>
        </ows:HTTP>
      </ows:DCP>
    </ows:Operation>
    <ows:Operation name="GetFeatureInfo">
      <ows:DCP>
        <ows:HTTP>
          <ows:Get xlink:href="https://wmts.geo.ti.ch/wmts?">
            <ows:Constraint name="GetEncoding">
              <ows:AllowedValues>
                <ows:Value>RESTful</ows:Value>
              </ows:AllowedValues>
            </ows:Constraint>
          </ows:Get>
        </ows:HTTP>
      </ows:DCP>
    </ows:Operation>
  </ows:OperationsMetadata>
  <Contents>
    <Layer>
      <ows:Title>[CH-051.1] Piano Registro Fondiario del Catasto RDPP</ows:Title>
      <ows:Abstract></ows:Abstract>
      <ows:WGS84BoundingBox>
        <ows:LowerCorner>7.935924379264599 45.57506921466782</ows:LowerCorner>
        <ows:UpperCorner>9.599455051795623 46.84176195936446</ows:UpperCorner>
      </ows:WGS84BoundingBox>
      <ows:Identifier>ch_051_1_v1_7_piano_registro_fondiario_crdpp</ows:Identifier>
      <Style isDefault="true">
        <ows:Identifier>default</ows:Identifier>
        <LegendURL
          format="image/png"
          xlink:href="https://wmts.geo.ti.ch/service?service=WMS&amp;request=GetLegendGraphic&amp;version=1.3.0&amp;format=image%2Fpng&amp;layer=ch_051_1_v1_7_piano_registro_fondiario_crdpp"
        />
      </Style>
      <Format>image/png</Format>
      <TileMatrixSetLink>
        <TileMatrixSet>ch95_grid</TileMatrixSet>
      </TileMatrixSetLink>
      <ResourceURL format="image/png" resourceType="tile"
        template="https://wmts.geo.ti.ch/wmts/ch_051_1_v1_7_piano_registro_fondiario_crdpp/{TileMatrixSet}/{TileMatrix}/{TileCol}/{TileRow}.png"/>
    </Layer>
    <Layer>
      <ows:Title>[CH-051.1] Piano Registro Fondiario (colore)</ows:Title>
      <ows:Abstract></ows:Abstract>
      <ows:WGS84BoundingBox>
        <ows:LowerCorner>7.935924379264599 45.57506921466782</ows:LowerCorner>
        <ows:UpperCorner>9.599455051795623 46.84176195936446</ows:UpperCorner>
      </ows:WGS84BoundingBox>
      <ows:Identifier>ch_051_1_v1_7_piano_registro_fondiario_colore</ows:Identifier>
      <Style isDefault="true">
        <ows:Identifier>default</ows:Identifier>
        <LegendURL
          format="image/png"
          xlink:href="https://wmts.geo.ti.ch/service?service=WMS&amp;request=GetLegendGraphic&amp;version=1.3.0&amp;format=image%2Fpng&amp;layer=ch_051_1_v1_7_piano_registro_fondiario_colore"
        />
      </Style>
      <Format>image/png</Format>
      <TileMatrixSetLink>
        <TileMatrixSet>ch95_grid</TileMatrixSet>
      </TileMatrixSetLink>
      <ResourceURL format="image/png" resourceType="tile"
        template="https://wmts.geo.ti.ch/wmts/ch_051_1_v1_7_piano_registro_fondiario_colore/{TileMatrixSet}/{TileMatrix}/{TileCol}/{TileRow}.png"/>
    </Layer>
    <Layer>
      <ows:Title>[CH-051.1] Piano Registro Fondiario (bianco e nero)</ows:Title>
      <ows:Abstract></ows:Abstract>
      <ows:WGS84BoundingBox>
        <ows:LowerCorner>7.935924379264599 45.57506921466782</ows:LowerCorner>
        <ows:UpperCorner>9.599455051795623 46.84176195936446</ows:UpperCorner>
      </ows:WGS84BoundingBox>
      <ows:Identifier>ch_051_1_v1_7_piano_registro_fondiario_bn</ows:Identifier>
      <Style isDefault="true">
        <ows:Identifier>default</ows:Identifier>
        <LegendURL
          format="image/png"
          xlink:href="https://wmts.geo.ti.ch/service?service=WMS&amp;request=GetLegendGraphic&amp;version=1.3.0&amp;format=image%2Fpng&amp;layer=ch_051_1_v1_7_piano_registro_fondiario_bn"
        />
      </Style>
      <Format>image/png</Format>
      <TileMatrixSetLink>
        <TileMatrixSet>ch95_grid</TileMatrixSet>
      </TileMatrixSetLink>
      <ResourceURL format="image/png" resourceType="tile"
        template="https://wmts.geo.ti.ch/wmts/ch_051_1_v1_7_piano_registro_fondiario_bn/{TileMatrixSet}/{TileMatrix}/{TileCol}/{TileRow}.png"/>
    </Layer>
    <Layer>
      <ows:Title>[CH-052.1] Piano di base–MU–CH (a colori)</ows:Title>
      <ows:Abstract></ows:Abstract>
      <ows:WGS84BoundingBox>
        <ows:LowerCorner>7.935924379264599 45.57506921466782</ows:LowerCorner>
        <ows:UpperCorner>9.599455051795623 46.84176195936446</ows:UpperCorner>
      </ows:WGS84BoundingBox>
      <ows:Identifier>ch_052_1_v24_0_piano_base_mu_ch_colore</ows:Identifier>
      <Style isDefault="true">
        <ows:Identifier>default</ows:Identifier>
        <LegendURL
          format="image/png"
          xlink:href="https://wmts.geo.ti.ch/service?service=WMS&amp;request=GetLegendGraphic&amp;version=1.3.0&amp;format=image%2Fpng&amp;layer=ch_052_1_v24_0_piano_base_mu_ch_colore"
        />
      </Style>
      <Format>image/png</Format>
      <TileMatrixSetLink>
        <TileMatrixSet>ch95_grid</TileMatrixSet>
      </TileMatrixSetLink>
      <ResourceURL format="image/png" resourceType="tile"
        template="https://wmts.geo.ti.ch/wmts/ch_052_1_v24_0_piano_base_mu_ch_colore/{TileMatrixSet}/{TileMatrix}/{TileCol}/{TileRow}.png"/>
    </Layer>
    <Layer>
      <ows:Title>[CH-052.1] Piano di base–MU–CH (bianco e nero)</ows:Title>
      <ows:Abstract></ows:Abstract>
      <ows:WGS84BoundingBox>
        <ows:LowerCorner>7.935924379264599 45.57506921466782</ows:LowerCorner>
        <ows:UpperCorner>9.599455051795623 46.84176195936446</ows:UpperCorner>
      </ows:WGS84BoundingBox>
      <ows:Identifier>ch_052_1_v24_0_piano_base_mu_ch_bn</ows:Identifier>
      <Style isDefault="true">
        <ows:Identifier>default</ows:Identifier>
        <LegendURL
          format="image/png"
          xlink:href="https://wmts.geo.ti.ch/service?service=WMS&amp;request=GetLegendGraphic&amp;version=1.3.0&amp;format=image%2Fpng&amp;layer=ch_052_1_v24_0_piano_base_mu_ch_bn"
        />
      </Style>
      <Format>image/png</Format>
      <TileMatrixSetLink>
        <TileMatrixSet>ch95_grid</TileMatrixSet>
      </TileMatrixSetLink>
      <ResourceURL format="image/png" resourceType="tile"
        template="https://wmts.geo.ti.ch/wmts/ch_052_1_v24_0_piano_base_mu_ch_bn/{TileMatrixSet}/{TileMatrix}/{TileCol}/{TileRow}.png"/>
    </Layer>
    <Layer>
      <ows:Title>[AC-045.1] Piano corografico</ows:Title>
      <ows:Abstract></ows:Abstract>
      <ows:WGS84BoundingBox>
        <ows:LowerCorner>7.935924379264599 45.57506921466782</ows:LowerCorner>
        <ows:UpperCorner>9.599455051795623 46.84176195936446</ows:UpperCorner>
      </ows:WGS84BoundingBox>
      <ows:Identifier>ac_045_1_v1_1_piani_corografici_</ows:Identifier>
      <Style isDefault="true">
        <ows:Identifier>default</ows:Identifier>
        <LegendURL
          format="image/png"
          xlink:href="https://wmts.geo.ti.ch/service?service=WMS&amp;request=GetLegendGraphic&amp;version=1.3.0&amp;format=image%2Fpng&amp;layer=ac_045_1_v1_1_piani_corografici_"
        />
      </Style>
      <Format>image/png</Format>
      <TileMatrixSetLink>
        <TileMatrixSet>ch95_grid</TileMatrixSet>
      </TileMatrixSetLink>
      <ResourceURL format="image/png" resourceType="tile"
        template="https://wmts.geo.ti.ch/wmts/ac_045_1_v1_1_piani_corografici_/{TileMatrixSet}/{TileMatrix}/{TileCol}/{TileRow}.png"/>
    </Layer>
    <TileMatrixSet>
      <ows:Identifier>ch95_grid</ows:Identifier>
      <ows:SupportedCRS>urn:ogc:def:crs:EPSG:2056</ows:SupportedCRS>
      <TileMatrix>
        <ows:Identifier>00</ows:Identifier>
        <ScaleDenominator>14285714.285714284</ScaleDenominator>
        <TopLeftCorner>2420000.0 1350000.0</TopLeftCorner>
        <TileWidth>256</TileWidth>
        <TileHeight>256</TileHeight>
        <MatrixWidth>1</MatrixWidth>
        <MatrixHeight>1</MatrixHeight>
      </TileMatrix>
      <TileMatrix>
        <ows:Identifier>01</ows:Identifier>
        <ScaleDenominator>13392857.142857142</ScaleDenominator>
        <TopLeftCorner>2420000.0 1350000.0</TopLeftCorner>
        <TileWidth>256</TileWidth>
        <TileHeight>256</TileHeight>
        <MatrixWidth>1</MatrixWidth>
        <MatrixHeight>1</MatrixHeight>
      </TileMatrix>
      <TileMatrix>
        <ows:Identifier>02</ows:Identifier>
        <ScaleDenominator>12499999.999999998</ScaleDenominator>
        <TopLeftCorner>2420000.0 1350000.0</TopLeftCorner>
        <TileWidth>256</TileWidth>
        <TileHeight>256</TileHeight>
        <MatrixWidth>1</MatrixWidth>
        <MatrixHeight>1</MatrixHeight>
      </TileMatrix>
      <TileMatrix>
        <ows:Identifier>03</ows:Identifier>
        <ScaleDenominator>11607142.857142856</ScaleDenominator>
        <TopLeftCorner>2420000.0 1350000.0</TopLeftCorner>
        <TileWidth>256</TileWidth>
        <TileHeight>256</TileHeight>
        <MatrixWidth>1</MatrixWidth>
        <MatrixHeight>1</MatrixHeight>
      </TileMatrix>
      <TileMatrix>
        <ows:Identifier>04</ows:Identifier>
        <ScaleDenominator>10714285.714285713</ScaleDenominator>
        <TopLeftCorner>2420000.0 1350000.0</TopLeftCorner>
        <TileWidth>256</TileWidth>
        <TileHeight>256</TileHeight>
        <MatrixWidth>1</MatrixWidth>
        <MatrixHeight>1</MatrixHeight>
      </TileMatrix>
      <TileMatrix>
        <ows:Identifier>05</ows:Identifier>
        <ScaleDenominator>9821428.57142857</ScaleDenominator>
        <TopLeftCorner>2420000.0 1350000.0</TopLeftCorner>
        <TileWidth>256</TileWidth>
        <TileHeight>256</TileHeight>
        <MatrixWidth>1</MatrixWidth>
        <MatrixHeight>1</MatrixHeight>
      </TileMatrix>
      <TileMatrix>
        <ows:Identifier>06</ows:Identifier>
        <ScaleDenominator>8928571.428571427</ScaleDenominator>
        <TopLeftCorner>2420000.0 1350000.0</TopLeftCorner>
        <TileWidth>256</TileWidth>
        <TileHeight>256</TileHeight>
        <MatrixWidth>1</MatrixWidth>
        <MatrixHeight>1</MatrixHeight>
      </TileMatrix>
      <TileMatrix>
        <ows:Identifier>07</ows:Identifier>
        <ScaleDenominator>8035714.2857142845</ScaleDenominator>
        <TopLeftCorner>2420000.0 1350000.0</TopLeftCorner>
        <TileWidth>256</TileWidth>
        <TileHeight>256</TileHeight>
        <MatrixWidth>1</MatrixWidth>
        <MatrixHeight>1</MatrixHeight>
      </TileMatrix>
      <TileMatrix>
        <ows:Identifier>08</ows:Identifier>
        <ScaleDenominator>7142857.142857142</ScaleDenominator>
        <TopLeftCorner>2420000.0 1350000.0</TopLeftCorner>
        <TileWidth>256</TileWidth>
        <TileHeight>256</TileHeight>
        <MatrixWidth>1</MatrixWidth>
        <MatrixHeight>1</MatrixHeight>
      </TileMatrix>
      <TileMatrix>
        <ows:Identifier>09</ows:Identifier>
        <ScaleDenominator>6249999.999999999</ScaleDenominator>
        <TopLeftCorner>2420000.0 1350000.0</TopLeftCorner>
        <TileWidth>256</TileWidth>
        <TileHeight>256</TileHeight>
        <MatrixWidth>2</MatrixWidth>
        <MatrixHeight>1</MatrixHeight>
      </TileMatrix>
      <TileMatrix>
        <ows:Identifier>10</ows:Identifier>
        <ScaleDenominator>5357142.857142856</ScaleDenominator>
        <TopLeftCorner>2420000.0 1350000.0</TopLeftCorner>
        <TileWidth>256</TileWidth>
        <TileHeight>256</TileHeight>
        <MatrixWidth>2</MatrixWidth>
        <MatrixHeight>1</MatrixHeight>
      </TileMatrix>
      <TileMatrix>
        <ows:Identifier>11</ows:Identifier>
        <ScaleDenominator>4464285.714285714</ScaleDenominator>
        <TopLeftCorner>2420000.0 1350000.0</TopLeftCorner>
        <TileWidth>256</TileWidth>
        <TileHeight>256</TileHeight>
        <MatrixWidth>2</MatrixWidth>
        <MatrixHeight>1</MatrixHeight>
      </TileMatrix>
      <TileMatrix>
        <ows:Identifier>12</ows:Identifier>
        <ScaleDenominator>3571428.571428571</ScaleDenominator>
        <TopLeftCorner>2420000.0 1350000.0</TopLeftCorner>
        <TileWidth>256</TileWidth>
        <TileHeight>256</TileHeight>
        <MatrixWidth>2</MatrixWidth>
        <MatrixHeight>2</MatrixHeight>
      </TileMatrix>
      <TileMatrix>
        <ows:Identifier>13</ows:Identifier>
        <ScaleDenominator>2678571.428571428</ScaleDenominator>
        <TopLeftCorner>2420000.0 1350000.0</TopLeftCorner>
        <TileWidth>256</TileWidth>
        <TileHeight>256</TileHeight>
        <MatrixWidth>3</MatrixWidth>
        <MatrixHeight>2</MatrixHeight>
      </TileMatrix>
      <TileMatrix>
        <ows:Identifier>14</ows:Identifier>
        <ScaleDenominator>2321428.5714285714</ScaleDenominator>
        <TopLeftCorner>2420000.0 1350000.0</TopLeftCorner>
        <TileWidth>256</TileWidth>
        <TileHeight>256</TileHeight>
        <MatrixWidth>4</MatrixWidth>
        <MatrixHeight>2</MatrixHeight>
      </TileMatrix>
      <TileMatrix>
        <ows:Identifier>15</ows:Identifier>
        <ScaleDenominator>1785714.2857142854</ScaleDenominator>
        <TopLeftCorner>2420000.0 1350000.0</TopLeftCorner>
        <TileWidth>256</TileWidth>
        <TileHeight>256</TileHeight>
        <MatrixWidth>4</MatrixWidth>
        <MatrixHeight>3</MatrixHeight>
      </TileMatrix>
      <TileMatrix>
        <ows:Identifier>16</ows:Identifier>
        <ScaleDenominator>892857.1428571427</ScaleDenominator>
        <TopLeftCorner>2420000.0 1350000.0</TopLeftCorner>
        <TileWidth>256</TileWidth>
        <TileHeight>256</TileHeight>
        <MatrixWidth>8</MatrixWidth>
        <MatrixHeight>5</MatrixHeight>
      </TileMatrix>
      <TileMatrix>
        <ows:Identifier>17</ows:Identifier>
        <ScaleDenominator>357142.8571428571</ScaleDenominator>
        <TopLeftCorner>2420000.0 1350000.0</TopLeftCorner>
        <TileWidth>256</TileWidth>
        <TileHeight>256</TileHeight>
        <MatrixWidth>20</MatrixWidth>
        <MatrixHeight>13</MatrixHeight>
      </TileMatrix>
      <TileMatrix>
        <ows:Identifier>18</ows:Identifier>
        <ScaleDenominator>178571.4285714286</ScaleDenominator>
        <TopLeftCorner>2420000.0 1350000.0</TopLeftCorner>
        <TileWidth>256</TileWidth>
        <TileHeight>256</TileHeight>
        <MatrixWidth>40</MatrixWidth>
        <MatrixHeight>25</MatrixHeight>
      </TileMatrix>
      <TileMatrix>
        <ows:Identifier>19</ows:Identifier>
        <ScaleDenominator>71428.5714285714</ScaleDenominator>
        <TopLeftCorner>2420000.0 1350000.0</TopLeftCorner>
        <TileWidth>256</TileWidth>
        <TileHeight>256</TileHeight>
        <MatrixWidth>98</MatrixWidth>
        <MatrixHeight>63</MatrixHeight>
      </TileMatrix>
      <TileMatrix>
        <ows:Identifier>20</ows:Identifier>
        <ScaleDenominator>35714.2857142857</ScaleDenominator>
        <TopLeftCorner>2420000.0 1350000.0</TopLeftCorner>
        <TileWidth>256</TileWidth>
        <TileHeight>256</TileHeight>
        <MatrixWidth>196</MatrixWidth>
        <MatrixHeight>125</MatrixHeight>
      </TileMatrix>
      <TileMatrix>
        <ows:Identifier>21</ows:Identifier>
        <ScaleDenominator>17857.1428571429</ScaleDenominator>
        <TopLeftCorner>2420000.0 1350000.0</TopLeftCorner>
        <TileWidth>256</TileWidth>
        <TileHeight>256</TileHeight>
        <MatrixWidth>391</MatrixWidth>
        <MatrixHeight>250</MatrixHeight>
      </TileMatrix>
      <TileMatrix>
        <ows:Identifier>22</ows:Identifier>
        <ScaleDenominator>8928.5714285714</ScaleDenominator>
        <TopLeftCorner>2420000.0 1350000.0</TopLeftCorner>
        <TileWidth>256</TileWidth>
        <TileHeight>256</TileHeight>
        <MatrixWidth>782</MatrixWidth>
        <MatrixHeight>500</MatrixHeight>
      </TileMatrix>
      <TileMatrix>
        <ows:Identifier>23</ows:Identifier>
        <ScaleDenominator>7142.8571428571</ScaleDenominator>
        <TopLeftCorner>2420000.0 1350000.0</TopLeftCorner>
        <TileWidth>256</TileWidth>
        <TileHeight>256</TileHeight>
        <MatrixWidth>977</MatrixWidth>
        <MatrixHeight>625</MatrixHeight>
      </TileMatrix>
      <TileMatrix>
        <ows:Identifier>24</ows:Identifier>
        <ScaleDenominator>5357.1428571429</ScaleDenominator>
        <TopLeftCorner>2420000.0 1350000.0</TopLeftCorner>
        <TileWidth>256</TileWidth>
        <TileHeight>256</TileHeight>
        <MatrixWidth>1303</MatrixWidth>
        <MatrixHeight>834</MatrixHeight>
      </TileMatrix>
      <TileMatrix>
        <ows:Identifier>25</ows:Identifier>
        <ScaleDenominator>3571.4285714286</ScaleDenominator>
        <TopLeftCorner>2420000.0 1350000.0</TopLeftCorner>
        <TileWidth>256</TileWidth>
        <TileHeight>256</TileHeight>
        <MatrixWidth>1954</MatrixWidth>
        <MatrixHeight>1250</MatrixHeight>
      </TileMatrix>
      <TileMatrix>
        <ows:Identifier>26</ows:Identifier>
        <ScaleDenominator>1785.7142857143</ScaleDenominator>
        <TopLeftCorner>2420000.0 1350000.0</TopLeftCorner>
        <TileWidth>256</TileWidth>
        <TileHeight>256</TileHeight>
        <MatrixWidth>3907</MatrixWidth>
        <MatrixHeight>2500</MatrixHeight>
      </TileMatrix>
      <TileMatrix>
        <ows:Identifier>27</ows:Identifier>
        <ScaleDenominator>892.8571428571</ScaleDenominator>
        <TopLeftCorner>2420000.0 1350000.0</TopLeftCorner>
        <TileWidth>256</TileWidth>
        <TileHeight>256</TileHeight>
        <MatrixWidth>7813</MatrixWidth>
        <MatrixHeight>5000</MatrixHeight>
      </TileMatrix>
      <TileMatrix>
        <ows:Identifier>28</ows:Identifier>
        <ScaleDenominator>446.4285714286</ScaleDenominator>
        <TopLeftCorner>2420000.0 1350000.0</TopLeftCorner>
        <TileWidth>256</TileWidth>
        <TileHeight>256</TileHeight>
        <MatrixWidth>15625</MatrixWidth>
        <MatrixHeight>10000</MatrixHeight>
      </TileMatrix>
      <TileMatrix>
        <ows:Identifier>29</ows:Identifier>
        <ScaleDenominator>357.1428571429</ScaleDenominator>
        <TopLeftCorner>2420000.0 1350000.0</TopLeftCorner>
        <TileWidth>256</TileWidth>
        <TileHeight>256</TileHeight>
        <MatrixWidth>19532</MatrixWidth>
        <MatrixHeight>12500</MatrixHeight>
      </TileMatrix>
      <TileMatrix>
        <ows:Identifier>30</ows:Identifier>
        <ScaleDenominator>223.2142857143</ScaleDenominator>
        <TopLeftCorner>2420000.0 1350000.0</TopLeftCorner>
        <TileWidth>256</TileWidth>
        <TileHeight>256</TileHeight>
        <MatrixWidth>31250</MatrixWidth>
        <MatrixHeight>20000</MatrixHeight>
      </TileMatrix>
    </TileMatrixSet>
  </Contents>
  <ServiceMetadataURL xlink:href="https://wmts.geo.ti.ch/wmts/1.0.0/WMTSCapabilities.xml"/>
</Capabilities>